BEGIN:VCALENDAR
VERSION:2.0
PRODID:-//Shepherd Center - ECPv6.15.20//NONSGML v1.0//EN
CALSCALE:GREGORIAN
METHOD:PUBLISH
X-WR-CALNAME:Shepherd Center
X-ORIGINAL-URL:https://shepherd.org
X-WR-CALDESC:Events for Shepherd Center
REFRESH-INTERVAL;VALUE=DURATION:PT1H
X-Robots-Tag:noindex
X-PUBLISHED-TTL:PT1H
BEGIN:VTIMEZONE
TZID:America/New_York
BEGIN:DAYLIGHT
TZOFFSETFROM:-0500
TZOFFSETTO:-0400
TZNAME:EDT
DTSTART:20290311T070000
END:DAYLIGHT
BEGIN:STANDARD
TZOFFSETFROM:-0400
TZOFFSETTO:-0500
TZNAME:EST
DTSTART:20291104T060000
END:STANDARD
BEGIN:DAYLIGHT
TZOFFSETFROM:-0500
TZOFFSETTO:-0400
TZNAME:EDT
DTSTART:20300310T070000
END:DAYLIGHT
BEGIN:STANDARD
TZOFFSETFROM:-0400
TZOFFSETTO:-0500
TZNAME:EST
DTSTART:20301103T060000
END:STANDARD
BEGIN:DAYLIGHT
TZOFFSETFROM:-0500
TZOFFSETTO:-0400
TZNAME:EDT
DTSTART:20310309T070000
END:DAYLIGHT
BEGIN:STANDARD
TZOFFSETFROM:-0400
TZOFFSETTO:-0500
TZNAME:EST
DTSTART:20311102T060000
END:STANDARD
BEGIN:DAYLIGHT
TZOFFSETFROM:-0500
TZOFFSETTO:-0400
TZNAME:EDT
DTSTART:20320314T070000
END:DAYLIGHT
BEGIN:STANDARD
TZOFFSETFROM:-0400
TZOFFSETTO:-0500
TZNAME:EST
DTSTART:20321107T060000
END:STANDARD
END:VTIMEZONE
BEGIN:VEVENT
DTSTART;TZID=America/New_York:20301201T133000
DTEND;TZID=America/New_York:20301201T140000
DTSTAMP:20260423T162209
CREATED:20250121T233554Z
LAST-MODIFIED:20250729T183147Z
UID:10002544-1922362200-1922364000@shepherd.org
SUMMARY:Sunday Service
DESCRIPTION:Chaplain Services provides an opportunity for many of our patients and families to gather in community worship on Sundays at 1:30 p.m. The service is an Ecumenical Christian Service that features music\, prayer\, community\, and a short message. All are welcome at our service.Anyone needing worship or support in a non-Christian format can contact the chaplains to arrange something for their specific needs.Individuals and small groups are always welcome to gather in the Alana and Harold Shepherd Chapel for worship and prayer. The chapel is open 24 hours a day\, 7 days a week. \n\n\n\n	\n																			\n												\n							More About Chaplaincy
URL:https://shepherd.org/event/sunday-service-2/2030-12-01/
LOCATION:Shepherd Center\, 2020 Peachtree Road NW\, Atlanta\, GA\, 30309\, United States
CATEGORIES:Patient & Family Support
ATTACH;FMTTYPE=image/jpeg:https://shepherd.org/wp-content/uploads/2024/10/shepherd-center-chapel-chaplain-0083.jpg
END:VEVENT
BEGIN:VEVENT
DTSTART;TZID=America/New_York:20301203T170000
DTEND;TZID=America/New_York:20301203T190000
DTSTAMP:20260423T162209
CREATED:20250309T214005Z
LAST-MODIFIED:20250729T183417Z
UID:10002058-1922547600-1922554800@shepherd.org
SUMMARY:Family Dinner
DESCRIPTION:Share a warm\, home-cooked meal with your loved ones at Family Dinner. This event brings patients and families together for a comforting and communal dining experience that feels like home.Family dinners are offered weekly on Tuesdays\, beginning at 5 p.m.This event is for current inpatients and their families/caregivers only.
URL:https://shepherd.org/event/family-dinner-2/2030-12-03/
LOCATION:Shepherd Center\, 2020 Peachtree Road NW\, Atlanta\, GA\, 30309\, United States
CATEGORIES:Patient & Family Support
ATTACH;FMTTYPE=image/jpeg:https://shepherd.org/wp-content/uploads/2025/01/patientsmileswithplateoffoodinhand-dvphotovideo2023-1205-170811-0100-scaled.jpg
END:VEVENT
BEGIN:VEVENT
DTSTART;TZID=America/New_York:20301208T133000
DTEND;TZID=America/New_York:20301208T140000
DTSTAMP:20260423T162209
CREATED:20250121T233554Z
LAST-MODIFIED:20250729T183147Z
UID:10002545-1922967000-1922968800@shepherd.org
SUMMARY:Sunday Service
DESCRIPTION:Chaplain Services provides an opportunity for many of our patients and families to gather in community worship on Sundays at 1:30 p.m. The service is an Ecumenical Christian Service that features music\, prayer\, community\, and a short message. All are welcome at our service.Anyone needing worship or support in a non-Christian format can contact the chaplains to arrange something for their specific needs.Individuals and small groups are always welcome to gather in the Alana and Harold Shepherd Chapel for worship and prayer. The chapel is open 24 hours a day\, 7 days a week. \n\n\n\n	\n																			\n												\n							More About Chaplaincy
URL:https://shepherd.org/event/sunday-service-2/2030-12-08/
LOCATION:Shepherd Center\, 2020 Peachtree Road NW\, Atlanta\, GA\, 30309\, United States
CATEGORIES:Patient & Family Support
ATTACH;FMTTYPE=image/jpeg:https://shepherd.org/wp-content/uploads/2024/10/shepherd-center-chapel-chaplain-0083.jpg
END:VEVENT
BEGIN:VEVENT
DTSTART;TZID=America/New_York:20301210T160000
DTEND;TZID=America/New_York:20301210T180000
DTSTAMP:20260423T162209
CREATED:20251031T162532Z
LAST-MODIFIED:20251031T162538Z
UID:10002228-1923148800-1923156000@shepherd.org
SUMMARY:Patient Haircuts
DESCRIPTION:Shepherd Center offers complimentary haircuts for patients\, provided by volunteer hairstylists. Enjoy this opportunity to relax and feel refreshed during your recovery journey.This service is reserved for current inpatients only. Check with your care team for additional information.
URL:https://shepherd.org/event/patient-haircuts/2030-12-10/
LOCATION:Shepherd Center\, 2020 Peachtree Road NW\, Atlanta\, GA\, 30309\, United States
CATEGORIES:Patient & Family Support
ATTACH;FMTTYPE=image/png:https://shepherd.org/wp-content/uploads/2024/08/patient-haircut.png
END:VEVENT
BEGIN:VEVENT
DTSTART;TZID=America/New_York:20301210T170000
DTEND;TZID=America/New_York:20301210T190000
DTSTAMP:20260423T162209
CREATED:20250309T214005Z
LAST-MODIFIED:20250729T183417Z
UID:10002059-1923152400-1923159600@shepherd.org
SUMMARY:Family Dinner
DESCRIPTION:Share a warm\, home-cooked meal with your loved ones at Family Dinner. This event brings patients and families together for a comforting and communal dining experience that feels like home.Family dinners are offered weekly on Tuesdays\, beginning at 5 p.m.This event is for current inpatients and their families/caregivers only.
URL:https://shepherd.org/event/family-dinner-2/2030-12-10/
LOCATION:Shepherd Center\, 2020 Peachtree Road NW\, Atlanta\, GA\, 30309\, United States
CATEGORIES:Patient & Family Support
ATTACH;FMTTYPE=image/jpeg:https://shepherd.org/wp-content/uploads/2025/01/patientsmileswithplateoffoodinhand-dvphotovideo2023-1205-170811-0100-scaled.jpg
END:VEVENT
BEGIN:VEVENT
DTSTART;TZID=America/New_York:20301215T133000
DTEND;TZID=America/New_York:20301215T140000
DTSTAMP:20260423T162209
CREATED:20250121T233554Z
LAST-MODIFIED:20250729T183147Z
UID:10002546-1923571800-1923573600@shepherd.org
SUMMARY:Sunday Service
DESCRIPTION:Chaplain Services provides an opportunity for many of our patients and families to gather in community worship on Sundays at 1:30 p.m. The service is an Ecumenical Christian Service that features music\, prayer\, community\, and a short message. All are welcome at our service.Anyone needing worship or support in a non-Christian format can contact the chaplains to arrange something for their specific needs.Individuals and small groups are always welcome to gather in the Alana and Harold Shepherd Chapel for worship and prayer. The chapel is open 24 hours a day\, 7 days a week. \n\n\n\n	\n																			\n												\n							More About Chaplaincy
URL:https://shepherd.org/event/sunday-service-2/2030-12-15/
LOCATION:Shepherd Center\, 2020 Peachtree Road NW\, Atlanta\, GA\, 30309\, United States
CATEGORIES:Patient & Family Support
ATTACH;FMTTYPE=image/jpeg:https://shepherd.org/wp-content/uploads/2024/10/shepherd-center-chapel-chaplain-0083.jpg
END:VEVENT
BEGIN:VEVENT
DTSTART;TZID=America/New_York:20301222T133000
DTEND;TZID=America/New_York:20301222T140000
DTSTAMP:20260423T162209
CREATED:20250121T233554Z
LAST-MODIFIED:20250729T183147Z
UID:10002547-1924176600-1924178400@shepherd.org
SUMMARY:Sunday Service
DESCRIPTION:Chaplain Services provides an opportunity for many of our patients and families to gather in community worship on Sundays at 1:30 p.m. The service is an Ecumenical Christian Service that features music\, prayer\, community\, and a short message. All are welcome at our service.Anyone needing worship or support in a non-Christian format can contact the chaplains to arrange something for their specific needs.Individuals and small groups are always welcome to gather in the Alana and Harold Shepherd Chapel for worship and prayer. The chapel is open 24 hours a day\, 7 days a week. \n\n\n\n	\n																			\n												\n							More About Chaplaincy
URL:https://shepherd.org/event/sunday-service-2/2030-12-22/
LOCATION:Shepherd Center\, 2020 Peachtree Road NW\, Atlanta\, GA\, 30309\, United States
CATEGORIES:Patient & Family Support
ATTACH;FMTTYPE=image/jpeg:https://shepherd.org/wp-content/uploads/2024/10/shepherd-center-chapel-chaplain-0083.jpg
END:VEVENT
BEGIN:VEVENT
DTSTART;TZID=America/New_York:20301226T180000
DTEND;TZID=America/New_York:20301226T200000
DTSTAMP:20260423T162209
CREATED:20250227T203705Z
LAST-MODIFIED:20250729T184550Z
UID:10002560-1924538400-1924545600@shepherd.org
SUMMARY:Community Peer Support Dinner
DESCRIPTION:Come join your Peer Support friends and other inpatient families and community members for dinner and peer support!There will be a buffet-style dinner at 6:00 p.m.\, followed by peer support sessions for SCI survivors ABI survivors\, and family caregivers/ care partners at 7:00 p.m. Virtual support is also available via Zoom.We also welcome families in the community looking for connection after a catastrophic injury or illness.Sign up for more details and get on our monthly community dinners list. \n\n\n\n	\n																			\n												\n							Sign Up for the Monthly Community Dinners
URL:https://shepherd.org/event/community-peer-support-dinner/2030-12-26/
LOCATION:Shepherd Center\, 2020 Peachtree Road NW\, Atlanta\, GA\, 30309\, United States
CATEGORIES:Online Events,Patient & Family Support
ATTACH;FMTTYPE=image/png:https://shepherd.org/wp-content/uploads/Screenshot-2025-02-27-at-3.35.53 PM.png
END:VEVENT
BEGIN:VEVENT
DTSTART;TZID=America/New_York:20301229T133000
DTEND;TZID=America/New_York:20301229T140000
DTSTAMP:20260423T162209
CREATED:20250121T233554Z
LAST-MODIFIED:20250729T183147Z
UID:10002548-1924781400-1924783200@shepherd.org
SUMMARY:Sunday Service
DESCRIPTION:Chaplain Services provides an opportunity for many of our patients and families to gather in community worship on Sundays at 1:30 p.m. The service is an Ecumenical Christian Service that features music\, prayer\, community\, and a short message. All are welcome at our service.Anyone needing worship or support in a non-Christian format can contact the chaplains to arrange something for their specific needs.Individuals and small groups are always welcome to gather in the Alana and Harold Shepherd Chapel for worship and prayer. The chapel is open 24 hours a day\, 7 days a week. \n\n\n\n	\n																			\n												\n							More About Chaplaincy
URL:https://shepherd.org/event/sunday-service-2/2030-12-29/
LOCATION:Shepherd Center\, 2020 Peachtree Road NW\, Atlanta\, GA\, 30309\, United States
CATEGORIES:Patient & Family Support
ATTACH;FMTTYPE=image/jpeg:https://shepherd.org/wp-content/uploads/2024/10/shepherd-center-chapel-chaplain-0083.jpg
END:VEVENT
BEGIN:VEVENT
DTSTART;TZID=America/New_York:20310105T133000
DTEND;TZID=America/New_York:20310105T140000
DTSTAMP:20260423T162209
CREATED:20250121T233554Z
LAST-MODIFIED:20250729T183147Z
UID:10002549-1925386200-1925388000@shepherd.org
SUMMARY:Sunday Service
DESCRIPTION:Chaplain Services provides an opportunity for many of our patients and families to gather in community worship on Sundays at 1:30 p.m. The service is an Ecumenical Christian Service that features music\, prayer\, community\, and a short message. All are welcome at our service.Anyone needing worship or support in a non-Christian format can contact the chaplains to arrange something for their specific needs.Individuals and small groups are always welcome to gather in the Alana and Harold Shepherd Chapel for worship and prayer. The chapel is open 24 hours a day\, 7 days a week. \n\n\n\n	\n																			\n												\n							More About Chaplaincy
URL:https://shepherd.org/event/sunday-service-2/2031-01-05/
LOCATION:Shepherd Center\, 2020 Peachtree Road NW\, Atlanta\, GA\, 30309\, United States
CATEGORIES:Patient & Family Support
ATTACH;FMTTYPE=image/jpeg:https://shepherd.org/wp-content/uploads/2024/10/shepherd-center-chapel-chaplain-0083.jpg
END:VEVENT
BEGIN:VEVENT
DTSTART;TZID=America/New_York:20310112T133000
DTEND;TZID=America/New_York:20310112T140000
DTSTAMP:20260423T162209
CREATED:20250121T233554Z
LAST-MODIFIED:20250729T183147Z
UID:10002550-1925991000-1925992800@shepherd.org
SUMMARY:Sunday Service
DESCRIPTION:Chaplain Services provides an opportunity for many of our patients and families to gather in community worship on Sundays at 1:30 p.m. The service is an Ecumenical Christian Service that features music\, prayer\, community\, and a short message. All are welcome at our service.Anyone needing worship or support in a non-Christian format can contact the chaplains to arrange something for their specific needs.Individuals and small groups are always welcome to gather in the Alana and Harold Shepherd Chapel for worship and prayer. The chapel is open 24 hours a day\, 7 days a week. \n\n\n\n	\n																			\n												\n							More About Chaplaincy
URL:https://shepherd.org/event/sunday-service-2/2031-01-12/
LOCATION:Shepherd Center\, 2020 Peachtree Road NW\, Atlanta\, GA\, 30309\, United States
CATEGORIES:Patient & Family Support
ATTACH;FMTTYPE=image/jpeg:https://shepherd.org/wp-content/uploads/2024/10/shepherd-center-chapel-chaplain-0083.jpg
END:VEVENT
BEGIN:VEVENT
DTSTART;TZID=America/New_York:20310114T160000
DTEND;TZID=America/New_York:20310114T180000
DTSTAMP:20260423T162209
CREATED:20251031T162532Z
LAST-MODIFIED:20251031T162538Z
UID:10002519-1926172800-1926180000@shepherd.org
SUMMARY:Patient Haircuts
DESCRIPTION:Shepherd Center offers complimentary haircuts for patients\, provided by volunteer hairstylists. Enjoy this opportunity to relax and feel refreshed during your recovery journey.This service is reserved for current inpatients only. Check with your care team for additional information.
URL:https://shepherd.org/event/patient-haircuts/2031-01-14/
LOCATION:Shepherd Center\, 2020 Peachtree Road NW\, Atlanta\, GA\, 30309\, United States
CATEGORIES:Patient & Family Support
ATTACH;FMTTYPE=image/png:https://shepherd.org/wp-content/uploads/2024/08/patient-haircut.png
END:VEVENT
BEGIN:VEVENT
DTSTART;TZID=America/New_York:20310119T133000
DTEND;TZID=America/New_York:20310119T140000
DTSTAMP:20260423T162209
CREATED:20250121T233554Z
LAST-MODIFIED:20250729T183147Z
UID:10002551-1926595800-1926597600@shepherd.org
SUMMARY:Sunday Service
DESCRIPTION:Chaplain Services provides an opportunity for many of our patients and families to gather in community worship on Sundays at 1:30 p.m. The service is an Ecumenical Christian Service that features music\, prayer\, community\, and a short message. All are welcome at our service.Anyone needing worship or support in a non-Christian format can contact the chaplains to arrange something for their specific needs.Individuals and small groups are always welcome to gather in the Alana and Harold Shepherd Chapel for worship and prayer. The chapel is open 24 hours a day\, 7 days a week. \n\n\n\n	\n																			\n												\n							More About Chaplaincy
URL:https://shepherd.org/event/sunday-service-2/2031-01-19/
LOCATION:Shepherd Center\, 2020 Peachtree Road NW\, Atlanta\, GA\, 30309\, United States
CATEGORIES:Patient & Family Support
ATTACH;FMTTYPE=image/jpeg:https://shepherd.org/wp-content/uploads/2024/10/shepherd-center-chapel-chaplain-0083.jpg
END:VEVENT
BEGIN:VEVENT
DTSTART;TZID=America/New_York:20310123T180000
DTEND;TZID=America/New_York:20310123T200000
DTSTAMP:20260423T162209
CREATED:20250227T203705Z
LAST-MODIFIED:20250729T184550Z
UID:10002561-1926957600-1926964800@shepherd.org
SUMMARY:Community Peer Support Dinner
DESCRIPTION:Come join your Peer Support friends and other inpatient families and community members for dinner and peer support!There will be a buffet-style dinner at 6:00 p.m.\, followed by peer support sessions for SCI survivors ABI survivors\, and family caregivers/ care partners at 7:00 p.m. Virtual support is also available via Zoom.We also welcome families in the community looking for connection after a catastrophic injury or illness.Sign up for more details and get on our monthly community dinners list. \n\n\n\n	\n																			\n												\n							Sign Up for the Monthly Community Dinners
URL:https://shepherd.org/event/community-peer-support-dinner/2031-01-23/
LOCATION:Shepherd Center\, 2020 Peachtree Road NW\, Atlanta\, GA\, 30309\, United States
CATEGORIES:Online Events,Patient & Family Support
ATTACH;FMTTYPE=image/png:https://shepherd.org/wp-content/uploads/Screenshot-2025-02-27-at-3.35.53 PM.png
END:VEVENT
BEGIN:VEVENT
DTSTART;TZID=America/New_York:20310126T133000
DTEND;TZID=America/New_York:20310126T140000
DTSTAMP:20260423T162209
CREATED:20250121T233554Z
LAST-MODIFIED:20250729T183147Z
UID:10002552-1927200600-1927202400@shepherd.org
SUMMARY:Sunday Service
DESCRIPTION:Chaplain Services provides an opportunity for many of our patients and families to gather in community worship on Sundays at 1:30 p.m. The service is an Ecumenical Christian Service that features music\, prayer\, community\, and a short message. All are welcome at our service.Anyone needing worship or support in a non-Christian format can contact the chaplains to arrange something for their specific needs.Individuals and small groups are always welcome to gather in the Alana and Harold Shepherd Chapel for worship and prayer. The chapel is open 24 hours a day\, 7 days a week. \n\n\n\n	\n																			\n												\n							More About Chaplaincy
URL:https://shepherd.org/event/sunday-service-2/2031-01-26/
LOCATION:Shepherd Center\, 2020 Peachtree Road NW\, Atlanta\, GA\, 30309\, United States
CATEGORIES:Patient & Family Support
ATTACH;FMTTYPE=image/jpeg:https://shepherd.org/wp-content/uploads/2024/10/shepherd-center-chapel-chaplain-0083.jpg
END:VEVENT
BEGIN:VEVENT
DTSTART;TZID=America/New_York:20310202T133000
DTEND;TZID=America/New_York:20310202T140000
DTSTAMP:20260423T162209
CREATED:20250121T233554Z
LAST-MODIFIED:20250729T183147Z
UID:10002553-1927805400-1927807200@shepherd.org
SUMMARY:Sunday Service
DESCRIPTION:Chaplain Services provides an opportunity for many of our patients and families to gather in community worship on Sundays at 1:30 p.m. The service is an Ecumenical Christian Service that features music\, prayer\, community\, and a short message. All are welcome at our service.Anyone needing worship or support in a non-Christian format can contact the chaplains to arrange something for their specific needs.Individuals and small groups are always welcome to gather in the Alana and Harold Shepherd Chapel for worship and prayer. The chapel is open 24 hours a day\, 7 days a week. \n\n\n\n	\n																			\n												\n							More About Chaplaincy
URL:https://shepherd.org/event/sunday-service-2/2031-02-02/
LOCATION:Shepherd Center\, 2020 Peachtree Road NW\, Atlanta\, GA\, 30309\, United States
CATEGORIES:Patient & Family Support
ATTACH;FMTTYPE=image/jpeg:https://shepherd.org/wp-content/uploads/2024/10/shepherd-center-chapel-chaplain-0083.jpg
END:VEVENT
BEGIN:VEVENT
DTSTART;TZID=America/New_York:20310209T133000
DTEND;TZID=America/New_York:20310209T140000
DTSTAMP:20260423T162209
CREATED:20250121T233554Z
LAST-MODIFIED:20250729T183147Z
UID:10002554-1928410200-1928412000@shepherd.org
SUMMARY:Sunday Service
DESCRIPTION:Chaplain Services provides an opportunity for many of our patients and families to gather in community worship on Sundays at 1:30 p.m. The service is an Ecumenical Christian Service that features music\, prayer\, community\, and a short message. All are welcome at our service.Anyone needing worship or support in a non-Christian format can contact the chaplains to arrange something for their specific needs.Individuals and small groups are always welcome to gather in the Alana and Harold Shepherd Chapel for worship and prayer. The chapel is open 24 hours a day\, 7 days a week. \n\n\n\n	\n																			\n												\n							More About Chaplaincy
URL:https://shepherd.org/event/sunday-service-2/2031-02-09/
LOCATION:Shepherd Center\, 2020 Peachtree Road NW\, Atlanta\, GA\, 30309\, United States
CATEGORIES:Patient & Family Support
ATTACH;FMTTYPE=image/jpeg:https://shepherd.org/wp-content/uploads/2024/10/shepherd-center-chapel-chaplain-0083.jpg
END:VEVENT
BEGIN:VEVENT
DTSTART;TZID=America/New_York:20310211T160000
DTEND;TZID=America/New_York:20310211T180000
DTSTAMP:20260423T162209
CREATED:20251031T162532Z
LAST-MODIFIED:20251031T162538Z
UID:10002520-1928592000-1928599200@shepherd.org
SUMMARY:Patient Haircuts
DESCRIPTION:Shepherd Center offers complimentary haircuts for patients\, provided by volunteer hairstylists. Enjoy this opportunity to relax and feel refreshed during your recovery journey.This service is reserved for current inpatients only. Check with your care team for additional information.
URL:https://shepherd.org/event/patient-haircuts/2031-02-11/
LOCATION:Shepherd Center\, 2020 Peachtree Road NW\, Atlanta\, GA\, 30309\, United States
CATEGORIES:Patient & Family Support
ATTACH;FMTTYPE=image/png:https://shepherd.org/wp-content/uploads/2024/08/patient-haircut.png
END:VEVENT
BEGIN:VEVENT
DTSTART;TZID=America/New_York:20310216T133000
DTEND;TZID=America/New_York:20310216T140000
DTSTAMP:20260423T162209
CREATED:20250121T233554Z
LAST-MODIFIED:20250729T183147Z
UID:10002555-1929015000-1929016800@shepherd.org
SUMMARY:Sunday Service
DESCRIPTION:Chaplain Services provides an opportunity for many of our patients and families to gather in community worship on Sundays at 1:30 p.m. The service is an Ecumenical Christian Service that features music\, prayer\, community\, and a short message. All are welcome at our service.Anyone needing worship or support in a non-Christian format can contact the chaplains to arrange something for their specific needs.Individuals and small groups are always welcome to gather in the Alana and Harold Shepherd Chapel for worship and prayer. The chapel is open 24 hours a day\, 7 days a week. \n\n\n\n	\n																			\n												\n							More About Chaplaincy
URL:https://shepherd.org/event/sunday-service-2/2031-02-16/
LOCATION:Shepherd Center\, 2020 Peachtree Road NW\, Atlanta\, GA\, 30309\, United States
CATEGORIES:Patient & Family Support
ATTACH;FMTTYPE=image/jpeg:https://shepherd.org/wp-content/uploads/2024/10/shepherd-center-chapel-chaplain-0083.jpg
END:VEVENT
BEGIN:VEVENT
DTSTART;TZID=America/New_York:20310223T133000
DTEND;TZID=America/New_York:20310223T140000
DTSTAMP:20260423T162209
CREATED:20250121T233554Z
LAST-MODIFIED:20250729T183147Z
UID:10002556-1929619800-1929621600@shepherd.org
SUMMARY:Sunday Service
DESCRIPTION:Chaplain Services provides an opportunity for many of our patients and families to gather in community worship on Sundays at 1:30 p.m. The service is an Ecumenical Christian Service that features music\, prayer\, community\, and a short message. All are welcome at our service.Anyone needing worship or support in a non-Christian format can contact the chaplains to arrange something for their specific needs.Individuals and small groups are always welcome to gather in the Alana and Harold Shepherd Chapel for worship and prayer. The chapel is open 24 hours a day\, 7 days a week. \n\n\n\n	\n																			\n												\n							More About Chaplaincy
URL:https://shepherd.org/event/sunday-service-2/2031-02-23/
LOCATION:Shepherd Center\, 2020 Peachtree Road NW\, Atlanta\, GA\, 30309\, United States
CATEGORIES:Patient & Family Support
ATTACH;FMTTYPE=image/jpeg:https://shepherd.org/wp-content/uploads/2024/10/shepherd-center-chapel-chaplain-0083.jpg
END:VEVENT
BEGIN:VEVENT
DTSTART;TZID=America/New_York:20310227T180000
DTEND;TZID=America/New_York:20310227T200000
DTSTAMP:20260423T162209
CREATED:20250227T203705Z
LAST-MODIFIED:20250729T184550Z
UID:10002562-1929981600-1929988800@shepherd.org
SUMMARY:Community Peer Support Dinner
DESCRIPTION:Come join your Peer Support friends and other inpatient families and community members for dinner and peer support!There will be a buffet-style dinner at 6:00 p.m.\, followed by peer support sessions for SCI survivors ABI survivors\, and family caregivers/ care partners at 7:00 p.m. Virtual support is also available via Zoom.We also welcome families in the community looking for connection after a catastrophic injury or illness.Sign up for more details and get on our monthly community dinners list. \n\n\n\n	\n																			\n												\n							Sign Up for the Monthly Community Dinners
URL:https://shepherd.org/event/community-peer-support-dinner/2031-02-27/
LOCATION:Shepherd Center\, 2020 Peachtree Road NW\, Atlanta\, GA\, 30309\, United States
CATEGORIES:Online Events,Patient & Family Support
ATTACH;FMTTYPE=image/png:https://shepherd.org/wp-content/uploads/Screenshot-2025-02-27-at-3.35.53 PM.png
END:VEVENT
BEGIN:VEVENT
DTSTART;TZID=America/New_York:20310302T133000
DTEND;TZID=America/New_York:20310302T140000
DTSTAMP:20260423T162209
CREATED:20250121T233554Z
LAST-MODIFIED:20250729T183147Z
UID:10002557-1930224600-1930226400@shepherd.org
SUMMARY:Sunday Service
DESCRIPTION:Chaplain Services provides an opportunity for many of our patients and families to gather in community worship on Sundays at 1:30 p.m. The service is an Ecumenical Christian Service that features music\, prayer\, community\, and a short message. All are welcome at our service.Anyone needing worship or support in a non-Christian format can contact the chaplains to arrange something for their specific needs.Individuals and small groups are always welcome to gather in the Alana and Harold Shepherd Chapel for worship and prayer. The chapel is open 24 hours a day\, 7 days a week. \n\n\n\n	\n																			\n												\n							More About Chaplaincy
URL:https://shepherd.org/event/sunday-service-2/2031-03-02/
LOCATION:Shepherd Center\, 2020 Peachtree Road NW\, Atlanta\, GA\, 30309\, United States
CATEGORIES:Patient & Family Support
ATTACH;FMTTYPE=image/jpeg:https://shepherd.org/wp-content/uploads/2024/10/shepherd-center-chapel-chaplain-0083.jpg
END:VEVENT
BEGIN:VEVENT
DTSTART;TZID=America/New_York:20310311T160000
DTEND;TZID=America/New_York:20310311T180000
DTSTAMP:20260423T162209
CREATED:20251031T162532Z
LAST-MODIFIED:20251031T162538Z
UID:10002575-1931011200-1931018400@shepherd.org
SUMMARY:Patient Haircuts
DESCRIPTION:Shepherd Center offers complimentary haircuts for patients\, provided by volunteer hairstylists. Enjoy this opportunity to relax and feel refreshed during your recovery journey.This service is reserved for current inpatients only. Check with your care team for additional information.
URL:https://shepherd.org/event/patient-haircuts/2031-03-11/
LOCATION:Shepherd Center\, 2020 Peachtree Road NW\, Atlanta\, GA\, 30309\, United States
CATEGORIES:Patient & Family Support
ATTACH;FMTTYPE=image/png:https://shepherd.org/wp-content/uploads/2024/08/patient-haircut.png
END:VEVENT
BEGIN:VEVENT
DTSTART;TZID=America/New_York:20310327T180000
DTEND;TZID=America/New_York:20310327T200000
DTSTAMP:20260423T162209
CREATED:20250227T203705Z
LAST-MODIFIED:20250729T184550Z
UID:10002576-1932400800-1932408000@shepherd.org
SUMMARY:Community Peer Support Dinner
DESCRIPTION:Come join your Peer Support friends and other inpatient families and community members for dinner and peer support!There will be a buffet-style dinner at 6:00 p.m.\, followed by peer support sessions for SCI survivors ABI survivors\, and family caregivers/ care partners at 7:00 p.m. Virtual support is also available via Zoom.We also welcome families in the community looking for connection after a catastrophic injury or illness.Sign up for more details and get on our monthly community dinners list. \n\n\n\n	\n																			\n												\n							Sign Up for the Monthly Community Dinners
URL:https://shepherd.org/event/community-peer-support-dinner/2031-03-27/
LOCATION:Shepherd Center\, 2020 Peachtree Road NW\, Atlanta\, GA\, 30309\, United States
CATEGORIES:Online Events,Patient & Family Support
ATTACH;FMTTYPE=image/png:https://shepherd.org/wp-content/uploads/Screenshot-2025-02-27-at-3.35.53 PM.png
END:VEVENT
END:VCALENDAR