BEGIN:VCALENDAR
VERSION:2.0
PRODID:-//Shepherd Center - ECPv6.15.20//NONSGML v1.0//EN
CALSCALE:GREGORIAN
METHOD:PUBLISH
X-ORIGINAL-URL:https://shepherd.org
X-WR-CALDESC:Events for Shepherd Center
REFRESH-INTERVAL;VALUE=DURATION:PT1H
X-Robots-Tag:noindex
X-PUBLISHED-TTL:PT1H
BEGIN:VTIMEZONE
TZID:America/New_York
BEGIN:DAYLIGHT
TZOFFSETFROM:-0500
TZOFFSETTO:-0400
TZNAME:EDT
DTSTART:20250309T070000
END:DAYLIGHT
BEGIN:STANDARD
TZOFFSETFROM:-0400
TZOFFSETTO:-0500
TZNAME:EST
DTSTART:20251102T060000
END:STANDARD
BEGIN:DAYLIGHT
TZOFFSETFROM:-0500
TZOFFSETTO:-0400
TZNAME:EDT
DTSTART:20260308T070000
END:DAYLIGHT
BEGIN:STANDARD
TZOFFSETFROM:-0400
TZOFFSETTO:-0500
TZNAME:EST
DTSTART:20261101T060000
END:STANDARD
BEGIN:DAYLIGHT
TZOFFSETFROM:-0500
TZOFFSETTO:-0400
TZNAME:EDT
DTSTART:20270314T070000
END:DAYLIGHT
BEGIN:STANDARD
TZOFFSETFROM:-0400
TZOFFSETTO:-0500
TZNAME:EST
DTSTART:20271107T060000
END:STANDARD
END:VTIMEZONE
BEGIN:VEVENT
DTSTART;TZID=America/New_York:20260604T100000
DTEND;TZID=America/New_York:20260604T120000
DTSTAMP:20260423T032304
CREATED:20260107T160648Z
LAST-MODIFIED:20260421T001636Z
UID:10002265-1780567200-1780574400@shepherd.org
SUMMARY:Adaptive Softball Clinic
DESCRIPTION:This event will take place near Atlanta\, GA. Participants will have the opportunity to join Shepherd Center and a sports specialist to learn more about adaptive softball. This course offers educational and hands-on demonstrations. The $20 fee includes a T-shirt\, instruction\, and equipment.Registration is required for all events and opens at least six weeks prior to the start of the class or course. Most courses require a small fee; however\, financial assistance is available. Please contact Katie Harmon at katie.harmon@shepherd.org for more information regarding requirements for financial assistance. \n\n\n\n\n\n\n\n	\n																			\n												\n							Register on CampDoc
URL:https://shepherd.org/event/softball-clinic/
LOCATION:Miracle League Field\, 4P68+C9V\, Alpharetta\, Georgia\, 30004\, United States
CATEGORIES:Health & Wellness Clinics
END:VEVENT
END:VCALENDAR